BEGIN:VCALENDAR
VERSION:2.0
PRODID:-//Big Red Barn Retreat - ECPv6.15.17.1//NONSGML v1.0//EN
CALSCALE:GREGORIAN
METHOD:PUBLISH
X-WR-CALNAME:Big Red Barn Retreat
X-ORIGINAL-URL:https://thebigredbarnretreat.org
X-WR-CALDESC:Events for Big Red Barn Retreat
REFRESH-INTERVAL;VALUE=DURATION:PT1H
X-Robots-Tag:noindex
X-PUBLISHED-TTL:PT1H
BEGIN:VTIMEZONE
TZID:America/New_York
BEGIN:DAYLIGHT
TZOFFSETFROM:-0500
TZOFFSETTO:-0400
TZNAME:EDT
DTSTART:20230312T070000
END:DAYLIGHT
BEGIN:STANDARD
TZOFFSETFROM:-0400
TZOFFSETTO:-0500
TZNAME:EST
DTSTART:20231105T060000
END:STANDARD
BEGIN:DAYLIGHT
TZOFFSETFROM:-0500
TZOFFSETTO:-0400
TZNAME:EDT
DTSTART:20240310T070000
END:DAYLIGHT
BEGIN:STANDARD
TZOFFSETFROM:-0400
TZOFFSETTO:-0500
TZNAME:EST
DTSTART:20241103T060000
END:STANDARD
BEGIN:DAYLIGHT
TZOFFSETFROM:-0500
TZOFFSETTO:-0400
TZNAME:EDT
DTSTART:20250309T070000
END:DAYLIGHT
BEGIN:STANDARD
TZOFFSETFROM:-0400
TZOFFSETTO:-0500
TZNAME:EST
DTSTART:20251102T060000
END:STANDARD
END:VTIMEZONE
BEGIN:VEVENT
DTSTART;VALUE=DATE:20241108
DTEND;VALUE=DATE:20241115
DTSTAMP:20260420T081503
CREATED:20241112T183745Z
LAST-MODIFIED:20241114T143126Z
UID:10001688-1731024000-1731628799@thebigredbarnretreat.org
SUMMARY:Warrior PATHH (female)
DESCRIPTION:Warrior PATHH is a transformative\, lifelong\, posttraumatic growth-based\, peer-based\, training program for veterans\, active duty military\, and first responders that relies on a variety of educational and experiential activities to teach life skills\, increase community integration and involvement\, and promote physical\, emotional\, relational\, financial\, and spiritual health.  \nThe training begins with a 7-day on-site initiation that is followed by further training delivered by our instructors through the Struggle Well platform. \nClick Here to learn more about Warrior PATHH and apply online.
URL:https://thebigredbarnretreat.org/event/warrior-pathh-female/
LOCATION:SC
END:VEVENT
BEGIN:VEVENT
DTSTART;TZID=America/New_York:20241114T093000
DTEND;TZID=America/New_York:20241114T163000
DTSTAMP:20260420T081503
CREATED:20241112T183754Z
LAST-MODIFIED:20241114T143110Z
UID:10001692-1731576600-1731601800@thebigredbarnretreat.org
SUMMARY:EAP CLIENTS: Private Sessions
DESCRIPTION:Services team sees EAP clients in private sessions during these times on Mondays\, Wednesdays and Thursdays
URL:https://thebigredbarnretreat.org/event/eap-clients-private-sessions-5/
LOCATION:SC
END:VEVENT
BEGIN:VEVENT
DTSTART;TZID=America/New_York:20241114T120000
DTEND;TZID=America/New_York:20241114T140000
DTSTAMP:20260420T081503
CREATED:20241112T183752Z
LAST-MODIFIED:20241114T143108Z
UID:10001691-1731585600-1731592800@thebigredbarnretreat.org
SUMMARY:Music Therapy: Beyond Music Course
DESCRIPTION:Discover Healing Through Music with “Beyond Music” This Fall!\nWe are thrilled to offer the “Beyond Music” group once again at the Big Red Barn Retreat (BRBR) starting in October. This music therapy course offers veterans and first responders a chance to explore music for their continued well-being at home. Laura Theismann\, MT-BC\, and Lenny Hyland (USAF\, ret.) will lead this group.  \n\n\n\n\n \n\n\n\n\nOver 8 weeks\, participants will engage in various music-based activities designed to deepen their understanding of music and self-care\, build resiliency\, and grow through experiences that may still be impacting their lives. No musical skills are required to join.  This class will be held on Thursdays from 12-2pm beginning in early October. 
URL:https://thebigredbarnretreat.org/event/music-therapy-beyond-music-course-2/
LOCATION:Participants meet at the Barn
END:VEVENT
BEGIN:VEVENT
DTSTART;TZID=America/New_York:20241114T173000
DTEND;TZID=America/New_York:20241114T183000
DTSTAMP:20260420T081503
CREATED:20241112T183756Z
LAST-MODIFIED:20241114T143113Z
UID:10001693-1731605400-1731609000@thebigredbarnretreat.org
SUMMARY:Flow and Restore Yoga with Liza Estes
DESCRIPTION:We will be hosting this Flow & Restore Yoga in-studio at The Big Red Barn Retreat. Veterans\, Active-Duty service members\, First Responders\, and IMMEDIATE family members welcome! Registration for classes is REQUIRED.  The registration link will expire at 3:00 PM on the day of the class.  \nRegistration link will post the Friday before class. \nUpon student arrival for classes: -Prior to arrival\, participant must register in advance for the class-Teacher will check attendance and have students sign waivers\, as well as answer pre-class screening questions.-Remove shoes on porch or in lobby\, placing them and personal belongings in provided bin provided at check in. -Wash hands or use hand sanitizer before entering yoga room.-Participants are strongly encouraged to bring their own mat. If you do not have one\, one will be provided for you. No other props will be allowed.-Please use a bathroom before coming to studio. If you do need to use our bathroom\, please follow the bathroom protocol after use.This is a Hatha-based yoga class that includes traditional asana postures\, breathing practices and relaxation techniques that are great for all levels. The class begins with gentle flowing asana postures that focus on alignment\, balance and breath control. The class ends with a guided form of systematic relaxation and meditation including Yoga Nidra. It is a great mix of physical movement as well as rest and relaxation.
URL:https://thebigredbarnretreat.org/event/flow-and-restore-yoga-with-liza-estes-2/
LOCATION:830 Lorick Rd\, Blythewood\, SC\, United States
GEO:34.21432;-80.97398
END:VEVENT
END:VCALENDAR